BEGIN:VCALENDAR
VERSION:2.0
PRODID:-//Southern Charm Firearms Academy - ECPv6.15.17.1//NONSGML v1.0//EN
CALSCALE:GREGORIAN
METHOD:PUBLISH
X-WR-CALNAME:Southern Charm Firearms Academy
X-ORIGINAL-URL:https://southerncharmfirearms.academy
X-WR-CALDESC:Events for Southern Charm Firearms Academy
REFRESH-INTERVAL;VALUE=DURATION:PT1H
X-Robots-Tag:noindex
X-PUBLISHED-TTL:PT1H
BEGIN:VTIMEZONE
TZID:America/Chicago
BEGIN:DAYLIGHT
TZOFFSETFROM:-0600
TZOFFSETTO:-0500
TZNAME:CDT
DTSTART:20240310T080000
END:DAYLIGHT
BEGIN:STANDARD
TZOFFSETFROM:-0500
TZOFFSETTO:-0600
TZNAME:CST
DTSTART:20241103T070000
END:STANDARD
BEGIN:DAYLIGHT
TZOFFSETFROM:-0600
TZOFFSETTO:-0500
TZNAME:CDT
DTSTART:20250309T080000
END:DAYLIGHT
BEGIN:STANDARD
TZOFFSETFROM:-0500
TZOFFSETTO:-0600
TZNAME:CST
DTSTART:20251102T070000
END:STANDARD
BEGIN:DAYLIGHT
TZOFFSETFROM:-0600
TZOFFSETTO:-0500
TZNAME:CDT
DTSTART:20260308T080000
END:DAYLIGHT
BEGIN:STANDARD
TZOFFSETFROM:-0500
TZOFFSETTO:-0600
TZNAME:CST
DTSTART:20261101T070000
END:STANDARD
END:VTIMEZONE
BEGIN:VEVENT
DTSTART;TZID=America/Chicago:20250630T080000
DTEND;TZID=America/Chicago:20250630T170000
DTSTAMP:20260422T044630
CREATED:20241220T155022Z
LAST-MODIFIED:20241220T155022Z
UID:7545-1751270400-1751302800@southerncharmfirearms.academy
SUMMARY:Basics of Rifle Shooting
DESCRIPTION:Come learn the basics of rifle shooting\, hunting season is coming!  Come learn all about rifles in this fun\, comprehensive\, full day class.  You will learn about bolt-action\, semi-automatic\, lever-action and break-action rifles\, several shooting positions\, maintenance\, ammunition fundamentals and much more!  Bring your own rifle or loaners available for a small fee.  You will receive a certificate of completion and a 150-page reference manual to take home.  Course takes place at our private range in Smithville.  Address and more details to be given after registration and payment.  Payment will be made directly to instructor after registering for this course. \nThis class is a prerequisite to take the NRA Rifle Instructor Course for the 2 days following this class.
URL:https://southerncharmfirearms.academy/event/basics-of-rifle-shooting
LOCATION:SCFA Private Outdoor Range\, Address Provided After Payment\, Bastrop County\, TX\, United States
ATTACH;FMTTYPE=image/jpeg:https://southerncharmfirearms.academy/wp-content/uploads/2021/02/IMG_4856.jpg
ORGANIZER;CN="Crystal Duke":MAILTO:crystal@scfirearms.academy
END:VEVENT
END:VCALENDAR