BEGIN:VCALENDAR
VERSION:2.0
PRODID:-//Southern Charm Firearms Academy - ECPv6.15.17.1//NONSGML v1.0//EN
CALSCALE:GREGORIAN
METHOD:PUBLISH
X-WR-CALNAME:Southern Charm Firearms Academy
X-ORIGINAL-URL:https://southerncharmfirearms.academy
X-WR-CALDESC:Events for Southern Charm Firearms Academy
REFRESH-INTERVAL;VALUE=DURATION:PT1H
X-Robots-Tag:noindex
X-PUBLISHED-TTL:PT1H
BEGIN:VTIMEZONE
TZID:America/Chicago
BEGIN:DAYLIGHT
TZOFFSETFROM:-0600
TZOFFSETTO:-0500
TZNAME:CDT
DTSTART:20240310T080000
END:DAYLIGHT
BEGIN:STANDARD
TZOFFSETFROM:-0500
TZOFFSETTO:-0600
TZNAME:CST
DTSTART:20241103T070000
END:STANDARD
BEGIN:DAYLIGHT
TZOFFSETFROM:-0600
TZOFFSETTO:-0500
TZNAME:CDT
DTSTART:20250309T080000
END:DAYLIGHT
BEGIN:STANDARD
TZOFFSETFROM:-0500
TZOFFSETTO:-0600
TZNAME:CST
DTSTART:20251102T070000
END:STANDARD
BEGIN:DAYLIGHT
TZOFFSETFROM:-0600
TZOFFSETTO:-0500
TZNAME:CDT
DTSTART:20260308T080000
END:DAYLIGHT
BEGIN:STANDARD
TZOFFSETFROM:-0500
TZOFFSETTO:-0600
TZNAME:CST
DTSTART:20261101T070000
END:STANDARD
END:VTIMEZONE
BEGIN:VEVENT
DTSTART;VALUE=DATE:20250701
DTEND;VALUE=DATE:20250703
DTSTAMP:20260422T061720
CREATED:20241220T155214Z
LAST-MODIFIED:20241220T155214Z
UID:7544-1751328000-1751500799@southerncharmfirearms.academy
SUMMARY:NRA Certified Rifle Instructor Course
DESCRIPTION:NRA Certified Rifle Instructor Course: This 2-day class includes NRA Basic Instructor Training (BIT) and the Instructor portion to have the opportunity to become a certified rifle instructor with the NRA. The prerequisite to take this instructor class is the Basics of Rifle Shooting student level class (just prior to this class). Proof of having taken this class is a certificate of completion from any certified NRA instructor. Please bring your student manual from this class as we will be using it. All instructor candidates must fill out a pre-course qualification/questionnaire and email it promptly back to the Training Counselor. All Instructor level materials will be provided. \nThere is a written test and a shooting qualification which must be passed at a 90% or greater to obtain certification. In addition\, you will be receiving and giving feedback to your class peers. Please come dressed as you would to go to the range. You will need to bring: your rifle in any caliber as you will be shooting as a “student” as well as shooting the instructor rifle qualification\, 150 rounds of ammunition\, a shooting mat\, eye and hearing protection\, closed toed shoes and long pants. You will be shooting from the bench\, prone and standing. Safe gun handling\, loading and unloading of each action type must also be demonstrated to pass this course. \nPlease bring a lunch both days as there aren’t any close by eateries. There is a fridge and a microwave. Water is provided.
URL:https://southerncharmfirearms.academy/event/nra-certified-rifle-instructor-course
LOCATION:SCFA Private Outdoor Range\, Address Provided After Payment\, Bastrop County\, TX\, United States
ATTACH;FMTTYPE=image/jpeg:https://southerncharmfirearms.academy/wp-content/uploads/IMG_0045-1-rotated.jpg
ORGANIZER;CN="Crystal Duke":MAILTO:crystal@scfirearms.academy
END:VEVENT
BEGIN:VEVENT
DTSTART;TZID=America/Chicago:20250702T180000
DTEND;TZID=America/Chicago:20250702T200000
DTSTAMP:20260422T061720
CREATED:20241220T161847Z
LAST-MODIFIED:20241220T161847Z
UID:7559-1751479200-1751486400@southerncharmfirearms.academy
SUMMARY:A Girl & A Gun\, La Grange Chapter GNO
DESCRIPTION:A Girl & A Gun\, La Grange Chapter meets on the 1st Wednesday night from 6-8pm for Girls Night Out. Different shooting activities and learning opportunities each week!  All La Grange chapter events take place at Fayette County Gun Club unless otherwise specified. \nNo fee to attend. Range fees of $25 are paid separately to the range if you are NOT a member of FCGC. This is a ladies only event.
URL:https://southerncharmfirearms.academy/event/a-girl-a-gun-la-grange-chapter-gno
LOCATION:Fayette County Gun Club\, 5338 N. US Hwy 77\, La Grange\, TX\, 78945\, United States
ATTACH;FMTTYPE=image/jpeg:https://southerncharmfirearms.academy/wp-content/uploads/image000002.jpg
ORGANIZER;CN="Crystal Duke":MAILTO:crystal@scfirearms.academy
END:VEVENT
END:VCALENDAR