BEGIN:VCALENDAR
VERSION:2.0
PRODID:-//Southern Charm Firearms Academy - ECPv6.15.17.1//NONSGML v1.0//EN
CALSCALE:GREGORIAN
METHOD:PUBLISH
X-WR-CALNAME:Southern Charm Firearms Academy
X-ORIGINAL-URL:https://southerncharmfirearms.academy
X-WR-CALDESC:Events for Southern Charm Firearms Academy
REFRESH-INTERVAL;VALUE=DURATION:PT1H
X-Robots-Tag:noindex
X-PUBLISHED-TTL:PT1H
BEGIN:VTIMEZONE
TZID:America/Chicago
BEGIN:DAYLIGHT
TZOFFSETFROM:-0600
TZOFFSETTO:-0500
TZNAME:CDT
DTSTART:20240310T080000
END:DAYLIGHT
BEGIN:STANDARD
TZOFFSETFROM:-0500
TZOFFSETTO:-0600
TZNAME:CST
DTSTART:20241103T070000
END:STANDARD
BEGIN:DAYLIGHT
TZOFFSETFROM:-0600
TZOFFSETTO:-0500
TZNAME:CDT
DTSTART:20250309T080000
END:DAYLIGHT
BEGIN:STANDARD
TZOFFSETFROM:-0500
TZOFFSETTO:-0600
TZNAME:CST
DTSTART:20251102T070000
END:STANDARD
BEGIN:DAYLIGHT
TZOFFSETFROM:-0600
TZOFFSETTO:-0500
TZNAME:CDT
DTSTART:20260308T080000
END:DAYLIGHT
BEGIN:STANDARD
TZOFFSETFROM:-0500
TZOFFSETTO:-0600
TZNAME:CST
DTSTART:20261101T070000
END:STANDARD
END:VTIMEZONE
BEGIN:VEVENT
DTSTART;TZID=America/Chicago:20250907T100000
DTEND;TZID=America/Chicago:20250907T120000
DTSTAMP:20260422T015444
CREATED:20250628T235458Z
LAST-MODIFIED:20250628T235458Z
UID:7844-1757239200-1757246400@southerncharmfirearms.academy
SUMMARY:Patient Assessment
DESCRIPTION:Patient Assessment: A common thread runs through all first-responder education\, regardless of whether that education is for law-enforcement officers\, firefighters\, paramedics\, or EMTs: learning to assess a situation is at the top of essentials. Assessing factors such as the safety of a scene\, the seriousness of a situation\, understanding the need for additional help and understanding the risks to the rescuer’s personal safety are all realities drummed into the heads of these professionals. While there are (of course) curricula that should be reserved for the professionals\, assessing a situation is not one of them. From the moment you arrive at the scene of a traumatic or medical emergency\, you will need to mentally run through the assessment checklist that you will learn. Committing this checklist to memory can help calm you during what might be a very chaotic scene\, and your calmness can lead to a better outcome for the patient and scene assessment is broken into three parts as shown to the right — the primary assessment\, assessing the ABCs\, and the secondary assessment. \nThe primary scene safety and patient assessment has six steps in it\, which we’ll review first. In addition to explaining what should be accomplished at each step\, I’ll also present you with a scenario\, which will help you to put that primary assessment step into practice. After completing the primary assessment\, a rapid assessment of the patient’s ABCs\, or airway\, breathing and circulation will be conducted. If any of those are deficient or absent\, I’ll walk you through what to do next. We’ll wrap up this chapter by discussing what a rapid trauma assessment is\, and how you’d use an “emergency move” to safely move an injured patient. There are several practical hands-on exercises in which you will participate.
URL:https://southerncharmfirearms.academy/event/patient-assessment
LOCATION:SCFA Private Outdoor Range\, Address Provided After Payment\, Bastrop County\, TX\, United States
ATTACH;FMTTYPE=image/jpeg:https://southerncharmfirearms.academy/wp-content/uploads/first-aid-symbol.jpg
ORGANIZER;CN="Crystal Duke":MAILTO:crystal@scfirearms.academy
END:VEVENT
BEGIN:VEVENT
DTSTART;TZID=America/Chicago:20250907T173000
DTEND;TZID=America/Chicago:20250907T193000
DTSTAMP:20260422T015444
CREATED:20250628T225335Z
LAST-MODIFIED:20250628T225335Z
UID:7838-1757266200-1757273400@southerncharmfirearms.academy
SUMMARY:AR-15: Getting Started
DESCRIPTION:Introduction to the AR-15 platform. There is a class presentation and familiarization with an AR-15 rifle. This 2-hour class is not live fire. You will learn about the parts\, disassemble and reassemble an AR-15. Other topics include the operating system\, ammunition\, loading/unloading/clearing\, advantages and disadvantages for home defense\, accessories\, optics and more. You will get hands-on a number of various rifles with different set ups.
URL:https://southerncharmfirearms.academy/https/southerncharmfirearmsacademy/event/ar-15-getting-started-20250907
LOCATION:SCFA Private Outdoor Range\, Address Provided After Payment\, Bastrop County\, TX\, United States
ATTACH;FMTTYPE=image/png:https://southerncharmfirearms.academy/wp-content/uploads/woman-and-rifle-on-bench.png
ORGANIZER;CN="Crystal Duke":MAILTO:crystal@scfirearms.academy
END:VEVENT
END:VCALENDAR