BEGIN:VCALENDAR
VERSION:2.0
PRODID:-//Southern Charm Firearms Academy - ECPv6.15.17.1//NONSGML v1.0//EN
CALSCALE:GREGORIAN
METHOD:PUBLISH
X-ORIGINAL-URL:https://southerncharmfirearms.academy
X-WR-CALDESC:Events for Southern Charm Firearms Academy
REFRESH-INTERVAL;VALUE=DURATION:PT1H
X-Robots-Tag:noindex
X-PUBLISHED-TTL:PT1H
BEGIN:VTIMEZONE
TZID:America/Chicago
BEGIN:DAYLIGHT
TZOFFSETFROM:-0600
TZOFFSETTO:-0500
TZNAME:CDT
DTSTART:20240310T080000
END:DAYLIGHT
BEGIN:STANDARD
TZOFFSETFROM:-0500
TZOFFSETTO:-0600
TZNAME:CST
DTSTART:20241103T070000
END:STANDARD
BEGIN:DAYLIGHT
TZOFFSETFROM:-0600
TZOFFSETTO:-0500
TZNAME:CDT
DTSTART:20250309T080000
END:DAYLIGHT
BEGIN:STANDARD
TZOFFSETFROM:-0500
TZOFFSETTO:-0600
TZNAME:CST
DTSTART:20251102T070000
END:STANDARD
BEGIN:DAYLIGHT
TZOFFSETFROM:-0600
TZOFFSETTO:-0500
TZNAME:CDT
DTSTART:20260308T080000
END:DAYLIGHT
BEGIN:STANDARD
TZOFFSETFROM:-0500
TZOFFSETTO:-0600
TZNAME:CST
DTSTART:20261101T070000
END:STANDARD
END:VTIMEZONE
BEGIN:VEVENT
DTSTART;TZID=America/Chicago:20251003T083000
DTEND;TZID=America/Chicago:20251003T140000
DTSTAMP:20260421T230938
CREATED:20250925T213232Z
LAST-MODIFIED:20250925T213232Z
UID:7999-1759480200-1759500000@southerncharmfirearms.academy
SUMMARY:Texas In-Person License to Carry
DESCRIPTION:Texas In-Person License to Carry class! Student will complete the state-mandated 4-hour minimum classroom portion\, take the written exam\, have a 1-hour range instruction portion and state-mandated shooting qualification. Upon passing\, you will be able to complete the process of receiving your state Handgun License. Mandated classroom portion will cover all applicable state laws\, conflict avoidance/resolution\, safe storage\, how to fill out the state application and more!
URL:https://southerncharmfirearms.academy/event/texas-in-person-license-to-carry-20251003
LOCATION:SCFA Private Outdoor Range\, Address Provided After Payment\, Bastrop County\, TX\, United States
ATTACH;FMTTYPE=image/jpeg:https://southerncharmfirearms.academy/wp-content/uploads/IMG_6429-1-scaled.jpg
ORGANIZER;CN="Crystal Duke":MAILTO:crystal@scfirearms.academy
END:VEVENT
BEGIN:VEVENT
DTSTART;TZID=America/Chicago:20251003T090000
DTEND;TZID=America/Chicago:20251003T120000
DTSTAMP:20260421T230938
CREATED:20250629T232751Z
LAST-MODIFIED:20250629T232751Z
UID:7871-1759482000-1759492800@southerncharmfirearms.academy
SUMMARY:Red Dot Fundamentals
DESCRIPTION:Red Dot Fundamentals: are you having a hard time seeing your iron sights? If so\, the red dot optic is a game changer for aging eyes and long-arm syndrome. Do you  have a red or green dot mounted optic system? Are you struggling with finding the dot consistently? Are you thinking about getting a pistol mounted optic for your pistol? Most assume it will be an easy transition. It can be if approached with the right training! Come learn all about this fantastic technology\, how to utilize it and use it with maximum advantage. Class starts with a 1-hour lecture in the classroom\, then we hit the range. \nCourse Objective: Develop the basic skills to zero your mounted optic\, and access and utilize the dot consistently. You will learn the way to present your pistol in order to see the dot every time. There is no pre-requisite for this class. Loaner guns available for an extra fee of $25.
URL:https://southerncharmfirearms.academy/event/red-dot-fundamentals-20251003
LOCATION:SCFA Private Outdoor Range\, Address Provided After Payment\, Bastrop County\, TX\, United States
ATTACH;FMTTYPE=image/jpeg:https://southerncharmfirearms.academy/wp-content/uploads/red-dot-mounted-on-pistol.jpg
ORGANIZER;CN="Crystal Duke":MAILTO:crystal@scfirearms.academy
END:VEVENT
BEGIN:VEVENT
DTSTART;TZID=America/Chicago:20251003T130000
DTEND;TZID=America/Chicago:20251003T160000
DTSTAMP:20260421T230938
CREATED:20250629T233122Z
LAST-MODIFIED:20250629T233122Z
UID:7872-1759496400-1759507200@southerncharmfirearms.academy
SUMMARY:Red Dot Intermediate
DESCRIPTION:Red Dot Intermediate: This class is to take your red or green dot skills to the next level and is all range time. A pistol mounted optic system allows for much quicker aiming and shooting if you know how to use it to maximum advantage. Course objective: to build more resilient skills using the dot to get more accurate shots on target sooner. Some of the topics are target transitions\, drawing from the holster to find the dot\, precise shot placement into 1″ and 2″ squares from various distances\, seeing the dot sooner for follow up shots and more! Course pre-requisite: Red Dot basic course from me or someone else as this class builds on what is learned in our Red Dot Fundamentals course.
URL:https://southerncharmfirearms.academy/event/red-dot-intermediate-20251003
LOCATION:SCFA Private Outdoor Range\, Address Provided After Payment\, Bastrop County\, TX\, United States
ATTACH;FMTTYPE=image/webp:https://southerncharmfirearms.academy/wp-content/uploads/trigger-finger-position.webp
ORGANIZER;CN="Crystal Duke":MAILTO:crystal@scfirearms.academy
END:VEVENT
BEGIN:VEVENT
DTSTART;TZID=America/Chicago:20251003T140000
DTEND;TZID=America/Chicago:20251003T180000
DTSTAMP:20260421T230938
CREATED:20250925T213621Z
LAST-MODIFIED:20250925T213621Z
UID:8001-1759500000-1759514400@southerncharmfirearms.academy
SUMMARY:Conceal Carry & Home Defense Fundamentals - Half Day
DESCRIPTION:Conceal Carry & Home Defense Fundamentals Half-Day – This half-day comprehensive course is for anyone considering owning or carrying a firearm for self-defense. It’s also a fantastic refresher for those who haven’t visited these topics in a while. \nIn this half-day class students will be guided to understand conflict avoidance and situational awareness\, develop a home security and home defense mindset and plan\, handgun\, shooting fundamentals\, the physiology of violent encounters and most importantly\, the legal aspects of using deadly force\, including what to do in the aftermath. It includes a brief overview of gear\, gadgets as well as ongoing training and optional 1-hour shooting portion at the end (extra $45 charge payable in class).
URL:https://southerncharmfirearms.academy/event/conceal-carry-home-defense-fundamentals-half-day-20251003
LOCATION:SCFA Private Outdoor Range\, Address Provided After Payment\, Bastrop County\, TX\, United States
ATTACH;FMTTYPE=image/webp:https://southerncharmfirearms.academy/wp-content/uploads/CCHDF-book-cover-1.webp
ORGANIZER;CN="Crystal Duke":MAILTO:crystal@scfirearms.academy
END:VEVENT
END:VCALENDAR