BEGIN:VCALENDAR
VERSION:2.0
PRODID:-//Southern Charm Firearms Academy - ECPv6.15.17.1//NONSGML v1.0//EN
CALSCALE:GREGORIAN
METHOD:PUBLISH
X-ORIGINAL-URL:https://southerncharmfirearms.academy
X-WR-CALDESC:Events for Southern Charm Firearms Academy
REFRESH-INTERVAL;VALUE=DURATION:PT1H
X-Robots-Tag:noindex
X-PUBLISHED-TTL:PT1H
BEGIN:VTIMEZONE
TZID:America/Chicago
BEGIN:DAYLIGHT
TZOFFSETFROM:-0600
TZOFFSETTO:-0500
TZNAME:CDT
DTSTART:20240310T080000
END:DAYLIGHT
BEGIN:STANDARD
TZOFFSETFROM:-0500
TZOFFSETTO:-0600
TZNAME:CST
DTSTART:20241103T070000
END:STANDARD
BEGIN:DAYLIGHT
TZOFFSETFROM:-0600
TZOFFSETTO:-0500
TZNAME:CDT
DTSTART:20250309T080000
END:DAYLIGHT
BEGIN:STANDARD
TZOFFSETFROM:-0500
TZOFFSETTO:-0600
TZNAME:CST
DTSTART:20251102T070000
END:STANDARD
BEGIN:DAYLIGHT
TZOFFSETFROM:-0600
TZOFFSETTO:-0500
TZNAME:CDT
DTSTART:20260308T080000
END:DAYLIGHT
BEGIN:STANDARD
TZOFFSETFROM:-0500
TZOFFSETTO:-0600
TZNAME:CST
DTSTART:20261101T070000
END:STANDARD
END:VTIMEZONE
BEGIN:VEVENT
DTSTART;TZID=America/Chicago:20251102T090000
DTEND;TZID=America/Chicago:20251102T120000
DTSTAMP:20260421T212912
CREATED:20250813T195145Z
LAST-MODIFIED:20250813T195502Z
UID:7952-1762074000-1762084800@southerncharmfirearms.academy
SUMMARY:Slay the Clays Shotgun Clinic - Country Doubles
DESCRIPTION:Slay the Clays Shotgun Clinics:\nSporting shotgun is some of the most fun you can have if you love shooting! Come learn every game that Fayette County Gun Club has to offer! \nEach clinic only costs $50 (plus price of targets\, $8 per 25) and is limited to 20 people. To reserve your spot and get payment information\, contact Crystal Duke at 512-576-8340 or use the payment link below to use a credit card. Each clinic will have at least 2 certified Shotgun Instructors to help you learn the game. Don’t have a shotgun? Not to worry\, we have several loaners available in 12 and 20 gauge. Let us know that you need a loaner. \nClinic #1: Trap\, September 28\, 2-5pm. You will learn how the game of trap works. We will also assist you in all the basics of your shotgun and how to learn to see the bird\, get to it and press the trigger at the right time. \nClinic #2: Skeet\, October 5\, 9-noon. Come learn about skeet. Skeet is a little more challenging with more positions around the field and challenging angles.  What you learn in the trap clinic will help you a lot in this one! \nClinic #3:5-stand\, October 12\, 9-noon. 5-stand is part of the sporting clay universe without the need for all that walking or driving around. The throwers are in an array all around you. This game builds on what you learn in trap and skeet. \nClinic #4: Sporting Clays\, October 19\, 11am-2pm. Going from station to station hitting different pairs and then moving on is what this game is about. There is also a fantastic social component with this game. It’s also called “golf with a shotgun”. Some of the pairs are challenging but that’s part of the fun. \nClinic #5: Country Doubles\, November 2\, 9-noon. Come learn this Texas game! This is a part of our culture since this game is only played in Texas. It’s increasingly more difficult as you move further out into the field. You get a high bird and a low bird. Which should you shoot first?  Come learn. \nSpots are going quickly so don’t wait to reserve yours. When using this payment link\, please state the date/s of the clinic/s in which you are enrolling. Payment Link… https://buy.stripe.com/3cs9DG7Z2gSG4lq8wQ \nThe lead instructor\, Crystal Duke\, has been competing in sporting shotgun for many years and brings an experienced team to help you learn how to have fun and slay the clays! For more information on Crystal\, click here.
URL:https://southerncharmfirearms.academy/event/slay-the-clays-shotgun-clinic-country-doubles-20251102
LOCATION:Fayette County Gun Club\, 5338 N. US Hwy 77\, La Grange\, TX\, 78945\, United States
CATEGORIES:Clinics,Shotgun Clinic
ATTACH;FMTTYPE=image/jpeg:https://southerncharmfirearms.academy/wp-content/uploads/moyesway-station5.jpg
ORGANIZER;CN="Crystal Duke":MAILTO:crystal@scfirearms.academy
END:VEVENT
END:VCALENDAR