BEGIN:VCALENDAR
VERSION:2.0
PRODID:-//Southern Charm Firearms Academy - ECPv6.15.17.1//NONSGML v1.0//EN
CALSCALE:GREGORIAN
METHOD:PUBLISH
X-WR-CALNAME:Southern Charm Firearms Academy
X-ORIGINAL-URL:https://southerncharmfirearms.academy
X-WR-CALDESC:Events for Southern Charm Firearms Academy
REFRESH-INTERVAL;VALUE=DURATION:PT1H
X-Robots-Tag:noindex
X-PUBLISHED-TTL:PT1H
BEGIN:VTIMEZONE
TZID:America/Chicago
BEGIN:DAYLIGHT
TZOFFSETFROM:-0600
TZOFFSETTO:-0500
TZNAME:CDT
DTSTART:20250309T080000
END:DAYLIGHT
BEGIN:STANDARD
TZOFFSETFROM:-0500
TZOFFSETTO:-0600
TZNAME:CST
DTSTART:20251102T070000
END:STANDARD
BEGIN:DAYLIGHT
TZOFFSETFROM:-0600
TZOFFSETTO:-0500
TZNAME:CDT
DTSTART:20260308T080000
END:DAYLIGHT
BEGIN:STANDARD
TZOFFSETFROM:-0500
TZOFFSETTO:-0600
TZNAME:CST
DTSTART:20261101T070000
END:STANDARD
BEGIN:DAYLIGHT
TZOFFSETFROM:-0600
TZOFFSETTO:-0500
TZNAME:CDT
DTSTART:20270314T080000
END:DAYLIGHT
BEGIN:STANDARD
TZOFFSETFROM:-0500
TZOFFSETTO:-0600
TZNAME:CST
DTSTART:20271107T070000
END:STANDARD
END:VTIMEZONE
BEGIN:VEVENT
DTSTART;VALUE=DATE:20260608
DTEND;VALUE=DATE:20260613
DTSTAMP:20260421T204456
CREATED:20260421T191048Z
LAST-MODIFIED:20260421T191048Z
UID:8382-1780876800-1781308799@southerncharmfirearms.academy
SUMMARY:Texas Hunters Education
DESCRIPTION:Texas Hunters Education \nWe are teaching the state-mandated course at Fayette County Gun Club for the entire week of June 8-12 from 8am-5pm. The same class is offered each day and must have a minimum of 5 students for the class to run on any particular day. Lunch\, all ammo\, targets and materials are provided by the generosity of Fayette County Gun Club. \nYou only need to register for one day if you need this class to get your hunting license in Texas. \nThis course is designed for novice or young hunters\, ages 9 years and above. The course covers the core competencies of firearm and hunting safety\, hunting ethics and wildlife conservation. All materials are provided. The Hunter Education Classroom Course lasts a maximum of 6 hours of classroom instruction. This time does not include registration\, breaks\, test administration and certification card distribution. Courses are offered across the state year round and are taught by certified volunteer instructors. The fee for the certification is $15 AND Pre-registration is required. Check with the instructor for directions and any special instructions prior to going to class. \nBe sure to verify with the instructor that the class you are registering for is the Classroom Course. \nWhen you arrive at the course: \n\nPay the fee to the instructor.\nAttend the entire course.\nTake the written exam and get at least 75% correct to pass.\nUpon successful completion\, you may receive a temporary card from the instructor. You may legally hunt with a valid Texas hunting license and your temporary certification card. Your permanent Texas Hunter Education certification card will be available for downloading and printing from your Account Profile.
URL:https://southerncharmfirearms.academy/event/texas-hunters-education
LOCATION:Fayette County Gun Club\, 5338 N. US Hwy 77\, La Grange\, TX\, 78945\, United States
CATEGORIES:Texas Hunters Education
ATTACH;FMTTYPE=image/jpeg:https://southerncharmfirearms.academy/wp-content/uploads/mine-and-bella-1.jpg
ORGANIZER;CN="Crystal Duke":MAILTO:crystal@scfirearms.academy
END:VEVENT
END:VCALENDAR