BEGIN:VCALENDAR
VERSION:2.0
PRODID:-//Southern Charm Firearms Academy - ECPv6.15.17.1//NONSGML v1.0//EN
CALSCALE:GREGORIAN
METHOD:PUBLISH
X-ORIGINAL-URL:https://southerncharmfirearms.academy
X-WR-CALDESC:Events for Southern Charm Firearms Academy
REFRESH-INTERVAL;VALUE=DURATION:PT1H
X-Robots-Tag:noindex
X-PUBLISHED-TTL:PT1H
BEGIN:VTIMEZONE
TZID:America/Chicago
BEGIN:DAYLIGHT
TZOFFSETFROM:-0600
TZOFFSETTO:-0500
TZNAME:CDT
DTSTART:20250309T080000
END:DAYLIGHT
BEGIN:STANDARD
TZOFFSETFROM:-0500
TZOFFSETTO:-0600
TZNAME:CST
DTSTART:20251102T070000
END:STANDARD
BEGIN:DAYLIGHT
TZOFFSETFROM:-0600
TZOFFSETTO:-0500
TZNAME:CDT
DTSTART:20260308T080000
END:DAYLIGHT
BEGIN:STANDARD
TZOFFSETFROM:-0500
TZOFFSETTO:-0600
TZNAME:CST
DTSTART:20261101T070000
END:STANDARD
BEGIN:DAYLIGHT
TZOFFSETFROM:-0600
TZOFFSETTO:-0500
TZNAME:CDT
DTSTART:20270314T080000
END:DAYLIGHT
BEGIN:STANDARD
TZOFFSETFROM:-0500
TZOFFSETTO:-0600
TZNAME:CST
DTSTART:20271107T070000
END:STANDARD
END:VTIMEZONE
BEGIN:VEVENT
DTSTART;TZID=America/Chicago:20260601T180000
DTEND;TZID=America/Chicago:20260601T200000
DTSTAMP:20260421T191947
CREATED:20260421T184720Z
LAST-MODIFIED:20260421T184720Z
UID:8372-1780336800-1780344000@southerncharmfirearms.academy
SUMMARY:A Girl & A Gun\, Bastrop Chapter GNO
DESCRIPTION:A Girl & A Gun\, Bastrop Chapter 1st Monday Girls Night Out!  Shooting related activities followed by a pot-luck dinner. \nWe work on skills and mindset. Our large chapter is very active in all disciplines of pistol\, rifle\, shotgun\, competitions and more. Many are working through the exclusive to member\, Pistol Marksmanship Program\, and earning awards at every level completed. Girls Night Out is a fantastic way to keep practicing your skills. And you will meet a lot of like-minded\, fantastic women! \nRange fees of $15-20/shooter.  Please RSVP.  All levels welcome!
URL:https://southerncharmfirearms.academy/event/a-girl-and-a-gun-gno-20260601
LOCATION:SCFA Private Outdoor Range\, Address Provided After Payment\, Bastrop County\, TX\, United States
CATEGORIES:Women's League
ATTACH;FMTTYPE=image/jpeg:https://southerncharmfirearms.academy/wp-content/uploads/GNO.jpg
ORGANIZER;CN="Crystal Duke":MAILTO:crystal@scfirearms.academy
END:VEVENT
BEGIN:VEVENT
DTSTART;TZID=America/Chicago:20260603T180000
DTEND;TZID=America/Chicago:20260603T200000
DTSTAMP:20260421T191947
CREATED:20260421T184844Z
LAST-MODIFIED:20260421T184844Z
UID:8374-1780509600-1780516800@southerncharmfirearms.academy
SUMMARY:A Girl & A Gun\, La Grange Chapter GNO
DESCRIPTION:A Girl & A Gun\, La Grange Chapter GNO\, Girls Night Out\, meets on the 1st Wednesday night from 6-8pm for Girls Night Out. Different shooting activities and learning opportunities each week!  All La Grange chapter events take place at Fayette County Gun Club unless otherwise specified. \nNo fee to attend. Range fees of $25 are paid separately to the range if you are NOT a member of FCGC. This is a ladies only event.
URL:https://southerncharmfirearms.academy/event/a-girl-a-gun-la-grange-chapter-gno
LOCATION:Fayette County Gun Club\, 5338 N. US Hwy 77\, La Grange\, TX\, 78945\, United States
CATEGORIES:Women's League
ATTACH;FMTTYPE=image/jpeg:https://southerncharmfirearms.academy/wp-content/uploads/image000002.jpg
ORGANIZER;CN="Crystal Duke":MAILTO:crystal@scfirearms.academy
END:VEVENT
END:VCALENDAR