BEGIN:VCALENDAR
VERSION:2.0
PRODID:-//Southern Charm Firearms Academy - ECPv6.15.17.1//NONSGML v1.0//EN
CALSCALE:GREGORIAN
METHOD:PUBLISH
X-WR-CALNAME:Southern Charm Firearms Academy
X-ORIGINAL-URL:https://southerncharmfirearms.academy
X-WR-CALDESC:Events for Southern Charm Firearms Academy
REFRESH-INTERVAL;VALUE=DURATION:PT1H
X-Robots-Tag:noindex
X-PUBLISHED-TTL:PT1H
BEGIN:VTIMEZONE
TZID:America/Chicago
BEGIN:DAYLIGHT
TZOFFSETFROM:-0600
TZOFFSETTO:-0500
TZNAME:CDT
DTSTART:20230312T080000
END:DAYLIGHT
BEGIN:STANDARD
TZOFFSETFROM:-0500
TZOFFSETTO:-0600
TZNAME:CST
DTSTART:20231105T070000
END:STANDARD
BEGIN:DAYLIGHT
TZOFFSETFROM:-0600
TZOFFSETTO:-0500
TZNAME:CDT
DTSTART:20240310T080000
END:DAYLIGHT
BEGIN:STANDARD
TZOFFSETFROM:-0500
TZOFFSETTO:-0600
TZNAME:CST
DTSTART:20241103T070000
END:STANDARD
BEGIN:DAYLIGHT
TZOFFSETFROM:-0600
TZOFFSETTO:-0500
TZNAME:CDT
DTSTART:20250309T080000
END:DAYLIGHT
BEGIN:STANDARD
TZOFFSETFROM:-0500
TZOFFSETTO:-0600
TZNAME:CST
DTSTART:20251102T070000
END:STANDARD
END:VTIMEZONE
BEGIN:VEVENT
DTSTART;TZID=America/Chicago:20240505T130000
DTEND;TZID=America/Chicago:20240505T150000
DTSTAMP:20260425T182430
CREATED:20240115T235047Z
LAST-MODIFIED:20240115T235047Z
UID:6745-1714914000-1714921200@southerncharmfirearms.academy
SUMMARY:Pistol Cleaning Clinic
DESCRIPTION:Have you always wanted to know how to disassemble\, clean and reassemble your pistol? Is your pistol a mystery? Has it EVER been cleaned? If you have cleaning supplies\, feel free to bring them or use instructor provided supplies. Please bring your pistol manual to class! \nThis 2 hour clinic will have you cleaning your pistol like a pro! Also discussed will be how often to clean it\, what supplies you will need and more. After pistol re-assembly a 2-shot function test will be performed so you know it’s cycling properly. \nClass is held at a private range facility. Address to be given after registration and payment.
URL:https://southerncharmfirearms.academy/event/pistol-cleaning-clinic
LOCATION:SCFA Private Outdoor Range\, Address Provided After Payment\, Bastrop County\, TX\, United States
ATTACH;FMTTYPE=image/jpeg:https://southerncharmfirearms.academy/wp-content/uploads/2017/12/image-25-copyright.jpg
ORGANIZER;CN="Crystal Duke":MAILTO:crystal@scfirearms.academy
END:VEVENT
BEGIN:VEVENT
DTSTART;TZID=America/Chicago:20240505T080000
DTEND;TZID=America/Chicago:20240505T120000
DTSTAMP:20260425T182430
CREATED:20240115T234834Z
LAST-MODIFIED:20240115T234834Z
UID:6743-1714896000-1714910400@southerncharmfirearms.academy
SUMMARY:Conceal Carry & Home Defense Fundamentals - Half Day
DESCRIPTION:Concealed Carry and Home Defense Fundamentals is a comprehensive course for anyone considering owning or carrying a firearm for self-defense. \nIn this half-day class students will be guided to understand conflict avoidance and situational awareness\, home security and home defense\, handgun\, shotgun and AR-15 basics\, shooting fundamentals\, the physiology of violent encounters and most importantly\, the legal aspects of using deadly force\, including what to do in the aftermath. It includes a brief overview of gear\, gadgets as well as ongoing training and a shooting portion at the end.
URL:https://southerncharmfirearms.academy/event/conceal-carry-home-defense-fundamentals-half-day
LOCATION:SCFA Private Outdoor Range\, Address Provided After Payment\, Bastrop County\, TX\, United States
ATTACH;FMTTYPE=image/webp:https://southerncharmfirearms.academy/wp-content/uploads/CCHDF-book-cover-1.webp
ORGANIZER;CN="Crystal Duke":MAILTO:crystal@scfirearms.academy
END:VEVENT
BEGIN:VEVENT
DTSTART;TZID=America/Chicago:20240501T180000
DTEND;TZID=America/Chicago:20240501T200000
DTSTAMP:20260425T182430
CREATED:20240115T234538Z
LAST-MODIFIED:20240115T234538Z
UID:6739-1714586400-1714593600@southerncharmfirearms.academy
SUMMARY:A Girl & A Gun\, La Grange Chapter GNO
DESCRIPTION:The La Grange Chapter meets on the 1st Wednesday night from 6-8pm. Different shooting activities and learning opportunities each week! Come join us and then go out to dinner afterwards. All La Grange chapter events take place at Fayette County Gun Club unless otherwise specified. \nNo fee to attend. Range fees of $20 are paid separately to the range if you are NOT a member of FCGC. This is a ladies only event.
URL:https://southerncharmfirearms.academy/event/a-girl-a-gun-la-grange-chapter-gno
LOCATION:Fayette County Gun Club\, 5338 N. US Hwy 77\, La Grange\, TX\, 78945\, United States
ATTACH;FMTTYPE=image/jpeg:https://southerncharmfirearms.academy/wp-content/uploads/image000002.jpg
ORGANIZER;CN="Crystal Duke":MAILTO:crystal@scfirearms.academy
END:VEVENT
END:VCALENDAR