BEGIN:VCALENDAR
VERSION:2.0
PRODID:-//Southern Charm Firearms Academy - ECPv6.15.17.1//NONSGML v1.0//EN
CALSCALE:GREGORIAN
METHOD:PUBLISH
X-WR-CALNAME:Southern Charm Firearms Academy
X-ORIGINAL-URL:https://southerncharmfirearms.academy
X-WR-CALDESC:Events for Southern Charm Firearms Academy
REFRESH-INTERVAL;VALUE=DURATION:PT1H
X-Robots-Tag:noindex
X-PUBLISHED-TTL:PT1H
BEGIN:VTIMEZONE
TZID:America/Chicago
BEGIN:DAYLIGHT
TZOFFSETFROM:-0600
TZOFFSETTO:-0500
TZNAME:CDT
DTSTART:20240310T080000
END:DAYLIGHT
BEGIN:STANDARD
TZOFFSETFROM:-0500
TZOFFSETTO:-0600
TZNAME:CST
DTSTART:20241103T070000
END:STANDARD
BEGIN:DAYLIGHT
TZOFFSETFROM:-0600
TZOFFSETTO:-0500
TZNAME:CDT
DTSTART:20250309T080000
END:DAYLIGHT
BEGIN:STANDARD
TZOFFSETFROM:-0500
TZOFFSETTO:-0600
TZNAME:CST
DTSTART:20251102T070000
END:STANDARD
BEGIN:DAYLIGHT
TZOFFSETFROM:-0600
TZOFFSETTO:-0500
TZNAME:CDT
DTSTART:20260308T080000
END:DAYLIGHT
BEGIN:STANDARD
TZOFFSETFROM:-0500
TZOFFSETTO:-0600
TZNAME:CST
DTSTART:20261101T070000
END:STANDARD
END:VTIMEZONE
BEGIN:VEVENT
DTSTART;VALUE=DATE:20250701
DTEND;VALUE=DATE:20250703
DTSTAMP:20260422T044720
CREATED:20241220T155214Z
LAST-MODIFIED:20241220T155214Z
UID:7544-1751328000-1751500799@southerncharmfirearms.academy
SUMMARY:NRA Certified Rifle Instructor Course
DESCRIPTION:NRA Certified Rifle Instructor Course: This 2-day class includes NRA Basic Instructor Training (BIT) and the Instructor portion to have the opportunity to become a certified rifle instructor with the NRA. The prerequisite to take this instructor class is the Basics of Rifle Shooting student level class (just prior to this class). Proof of having taken this class is a certificate of completion from any certified NRA instructor. Please bring your student manual from this class as we will be using it. All instructor candidates must fill out a pre-course qualification/questionnaire and email it promptly back to the Training Counselor. All Instructor level materials will be provided. \nThere is a written test and a shooting qualification which must be passed at a 90% or greater to obtain certification. In addition\, you will be receiving and giving feedback to your class peers. Please come dressed as you would to go to the range. You will need to bring: your rifle in any caliber as you will be shooting as a “student” as well as shooting the instructor rifle qualification\, 150 rounds of ammunition\, a shooting mat\, eye and hearing protection\, closed toed shoes and long pants. You will be shooting from the bench\, prone and standing. Safe gun handling\, loading and unloading of each action type must also be demonstrated to pass this course. \nPlease bring a lunch both days as there aren’t any close by eateries. There is a fridge and a microwave. Water is provided.
URL:https://southerncharmfirearms.academy/event/nra-certified-rifle-instructor-course
LOCATION:SCFA Private Outdoor Range\, Address Provided After Payment\, Bastrop County\, TX\, United States
ATTACH;FMTTYPE=image/jpeg:https://southerncharmfirearms.academy/wp-content/uploads/IMG_0045-1-rotated.jpg
ORGANIZER;CN="Crystal Duke":MAILTO:crystal@scfirearms.academy
END:VEVENT
BEGIN:VEVENT
DTSTART;TZID=America/Chicago:20250702T180000
DTEND;TZID=America/Chicago:20250702T200000
DTSTAMP:20260422T044720
CREATED:20241220T161847Z
LAST-MODIFIED:20241220T161847Z
UID:7559-1751479200-1751486400@southerncharmfirearms.academy
SUMMARY:A Girl & A Gun\, La Grange Chapter GNO
DESCRIPTION:A Girl & A Gun\, La Grange Chapter meets on the 1st Wednesday night from 6-8pm for Girls Night Out. Different shooting activities and learning opportunities each week!  All La Grange chapter events take place at Fayette County Gun Club unless otherwise specified. \nNo fee to attend. Range fees of $25 are paid separately to the range if you are NOT a member of FCGC. This is a ladies only event.
URL:https://southerncharmfirearms.academy/event/a-girl-a-gun-la-grange-chapter-gno
LOCATION:Fayette County Gun Club\, 5338 N. US Hwy 77\, La Grange\, TX\, 78945\, United States
ATTACH;FMTTYPE=image/jpeg:https://southerncharmfirearms.academy/wp-content/uploads/image000002.jpg
ORGANIZER;CN="Crystal Duke":MAILTO:crystal@scfirearms.academy
END:VEVENT
BEGIN:VEVENT
DTSTART;TZID=America/Chicago:20250704T100000
DTEND;TZID=America/Chicago:20250704T170000
DTSTAMP:20260422T044720
CREATED:20250615T163134Z
LAST-MODIFIED:20250629T231631Z
UID:7813-1751623200-1751648400@southerncharmfirearms.academy
SUMMARY:Texas In-Person License to Carry
DESCRIPTION:Texas In-Person License to Carry class! Student will complete the state-mandated 4-hour minimum classroom portion\, take the written exam\, have a 1-hour range instruction portion and state-mandated shooting qualification. Upon passing\, you will be able to complete the process of receiving your state Handgun License. Mandated classroom portion will cover all applicable state laws\, conflict avoidance/resolution\, safe storage\, how to fill out the state application and more!
URL:https://southerncharmfirearms.academy/event/texas-in-person-license-to-carry-20250704
LOCATION:SCFA Private Outdoor Range\, Address Provided After Payment\, Bastrop County\, TX\, United States
ATTACH;FMTTYPE=image/jpeg:https://southerncharmfirearms.academy/wp-content/uploads/IMG_6429-1-scaled.jpg
ORGANIZER;CN="Crystal Duke":MAILTO:crystal@scfirearms.academy
END:VEVENT
BEGIN:VEVENT
DTSTART;TZID=America/Chicago:20250706T100000
DTEND;TZID=America/Chicago:20250706T120000
DTSTAMP:20260422T044720
CREATED:20250628T221750Z
LAST-MODIFIED:20250628T221859Z
UID:7824-1751796000-1751803200@southerncharmfirearms.academy
SUMMARY:Pistol Cleaning Clinic
DESCRIPTION:Our pistol cleaning clinic will give you the confidence you need to maintain your firearm properly. Have you always wanted to know how to disassemble\, clean and reassemble your pistol? Is your pistol a mystery? Has it EVER been cleaned? If you have cleaning supplies\, feel free to bring them or use instructor provided supplies. Please bring your pistol manual to class! \nThis 2 hour clinic will have you cleaning your pistol like a pro! Also discussed will be how often to clean it\, what supplies you will need and more. After pistol re-assembly a 2-shot function test will be performed so you know it’s cycling properly. \nClass is held at a private range facility. Address to be given after registration and payment.
URL:https://southerncharmfirearms.academy/event/pistol-cleaning-clinic-20250706
LOCATION:SCFA Private Outdoor Range\, Address Provided After Payment\, Bastrop County\, TX\, United States
ATTACH;FMTTYPE=image/jpeg:https://southerncharmfirearms.academy/wp-content/uploads/2017/12/image-25-copyright.jpg
ORGANIZER;CN="Crystal Duke":MAILTO:crystal@scfirearms.academy
END:VEVENT
BEGIN:VEVENT
DTSTART;TZID=America/Chicago:20250707T180000
DTEND;TZID=America/Chicago:20250707T200000
DTSTAMP:20260422T044720
CREATED:20241220T155718Z
LAST-MODIFIED:20241220T155718Z
UID:7549-1751911200-1751918400@southerncharmfirearms.academy
SUMMARY:A Girl & A Gun\, Bastrop Chapter GNO
DESCRIPTION:1st Monday Girls Night Out!  Shooting related activities followed by a pot-luck dinner.  Range fees of $15-20/shooter.  Please RSVP.  All levels welcome!
URL:https://southerncharmfirearms.academy/event/a-girl-a-gun-bastrop-chapter-gno
LOCATION:SCFA Private Outdoor Range\, Address Provided After Payment\, Bastrop County\, TX\, United States
ATTACH;FMTTYPE=image/jpeg:https://southerncharmfirearms.academy/wp-content/uploads/GNO.jpg
ORGANIZER;CN="Crystal Duke":MAILTO:crystal@scfirearms.academy
END:VEVENT
BEGIN:VEVENT
DTSTART;TZID=America/Chicago:20250710T080000
DTEND;TZID=America/Chicago:20250710T160000
DTSTAMP:20260422T044720
CREATED:20250629T231026Z
LAST-MODIFIED:20250629T231558Z
UID:7861-1752134400-1752163200@southerncharmfirearms.academy
SUMMARY:Texas In-Person License to Carry
DESCRIPTION:Texas In-Person License to Carry class! Student will complete the state-mandated 4-hour minimum classroom portion\, take the written exam\, have a 1-hour range instruction portion and state-mandated shooting qualification. Upon passing\, you will be able to complete the process of receiving your state Handgun License. Mandated classroom portion will cover all applicable state laws\, conflict avoidance/resolution\, safe storage\, how to fill out the state application and more!
URL:https://southerncharmfirearms.academy/event/texas-in-person-license-to-carry-20250710
LOCATION:SCFA Private Outdoor Range\, Address Provided After Payment\, Bastrop County\, TX\, United States
ATTACH;FMTTYPE=image/jpeg:https://southerncharmfirearms.academy/wp-content/uploads/IMG_6429-1-scaled.jpg
ORGANIZER;CN="Crystal Duke":MAILTO:crystal@scfirearms.academy
END:VEVENT
BEGIN:VEVENT
DTSTART;TZID=America/Chicago:20250713T150000
DTEND;TZID=America/Chicago:20250713T170000
DTSTAMP:20260422T044720
CREATED:20241220T160152Z
LAST-MODIFIED:20241220T160152Z
UID:7552-1752418800-1752426000@southerncharmfirearms.academy
SUMMARY:A Girl & A Gun\, Bastrop T-time
DESCRIPTION:A Girl & A Gun\, Bastrop T-time is the 2nd Sunday of the month. We get together for open target practice.  Range fees of $15-20/shooter.  Please RSVP.  All levels welcome. We are moving back to regular hours starting this Sunday.
URL:https://southerncharmfirearms.academy/event/a-girl-a-gun-bastrop-t-time
LOCATION:SCFA Private Outdoor Range\, Address Provided After Payment\, Bastrop County\, TX\, United States
ATTACH;FMTTYPE=image/jpeg:https://southerncharmfirearms.academy/wp-content/uploads/GNO-with-tent.jpg
ORGANIZER;CN="Crystal Duke":MAILTO:crystal@scfirearms.academy
END:VEVENT
BEGIN:VEVENT
DTSTART;TZID=America/Chicago:20250727T100000
DTEND;TZID=America/Chicago:20250727T120000
DTSTAMP:20260422T044720
CREATED:20250628T222035Z
LAST-MODIFIED:20250628T222035Z
UID:7826-1753610400-1753617600@southerncharmfirearms.academy
SUMMARY:Pistol Cleaning Clinic
DESCRIPTION:Our pistol cleaning clinic will give you the confidence you need to maintain your firearm properly. Have you always wanted to know how to disassemble\, clean and reassemble your pistol? Is your pistol a mystery? Has it EVER been cleaned? If you have cleaning supplies\, feel free to bring them or use instructor provided supplies. Please bring your pistol manual to class! \nThis 2 hour clinic will have you cleaning your pistol like a pro! Also discussed will be how often to clean it\, what supplies you will need and more. After pistol re-assembly a 2-shot function test will be performed so you know it’s cycling properly. \nClass is held at a private range facility. Address to be given after registration and payment.
URL:https://southerncharmfirearms.academy/event/pistol-cleaning-clinic-20250727
LOCATION:SCFA Private Outdoor Range\, Address Provided After Payment\, Bastrop County\, TX\, United States
ATTACH;FMTTYPE=image/jpeg:https://southerncharmfirearms.academy/wp-content/uploads/2017/12/image-25-copyright.jpg
ORGANIZER;CN="Crystal Duke":MAILTO:crystal@scfirearms.academy
END:VEVENT
BEGIN:VEVENT
DTSTART;TZID=America/Chicago:20250728T080000
DTEND;TZID=America/Chicago:20250728T170000
DTSTAMP:20260422T044720
CREATED:20241220T160509Z
LAST-MODIFIED:20241220T160509Z
UID:7555-1753689600-1753722000@southerncharmfirearms.academy
SUMMARY:NRA Range Safety Officer Certification Class
DESCRIPTION:Range Safety Officer class. Certificate issued after completion of classroom portion and passing grade on the written test. This comprehensive course will prepare you for being a certified Range Safety Officer. You will learn about safety briefings\, emergency response\, daily range operations\, and much\, much more.
URL:https://southerncharmfirearms.academy/event/nra-range-safety-officer-certification-class
LOCATION:SCFA Private Outdoor Range\, Address Provided After Payment\, Bastrop County\, TX\, United States
ATTACH;FMTTYPE=image/webp:https://southerncharmfirearms.academy/wp-content/uploads/Grip-shot.webp
ORGANIZER;CN="Crystal Duke":MAILTO:crystal@scfirearms.academy
END:VEVENT
BEGIN:VEVENT
DTSTART;VALUE=DATE:20250729
DTEND;VALUE=DATE:20250731
DTSTAMP:20260422T044720
CREATED:20241220T161016Z
LAST-MODIFIED:20241220T161139Z
UID:7554-1753747200-1753919999@southerncharmfirearms.academy
SUMMARY:Chief Range Safety Officer Certification Course
DESCRIPTION:NRA Chief Range Safety Officer Certification Course: Want to become a Chief Range Safety Officer? This 2-day course is all classroom for the CRSO Certification course. You must have taken NRA BIT within the last 2 years to attend this class. You will learn about how to manage and direct all range activities\, train RSOs\, understand Standard Operating Procedures\, work with your classmates on a set of SOPs\, and much more! Bring a lunch and any snacks needed both days.
URL:https://southerncharmfirearms.academy/event/chief-range-safety-officer-certification-course
LOCATION:SCFA Private Outdoor Range\, Address Provided After Payment\, Bastrop County\, TX\, United States
CATEGORIES:Instructor Certification Course
ATTACH;FMTTYPE=image/webp:https://southerncharmfirearms.academy/wp-content/uploads/High-Compressed-Ready.webp
ORGANIZER;CN="Crystal Duke":MAILTO:crystal@scfirearms.academy
END:VEVENT
END:VCALENDAR